BEGIN:VCALENDAR
VERSION:2.0
PRODID:-//wp-events-plugin.com//7.2.3.1//EN
BEGIN:VEVENT
UID:312@news.miu.edu
DTSTART;TZID=America/Chicago:20240921T123000
DTEND;TZID=America/Chicago:20240922T143000
DTSTAMP:20240529T191133Z
URL:https://news.miu.edu/community-events/life-drawing-morning-star-studio
 -2024-09-21/
SUMMARY:Life Drawing @ Morning Star Studio
DESCRIPTION:Unleash your creativity at our Life Drawing event! Join us on t
 he 2nd and 4th Saturday of each month from 12:30 to 2:30pm at Morning Star
  Studio for an inspiring session of drawing from a live model. Whether you
 're a seasoned artist or just starting out\, this event is open to all ski
 ll levels. Bring your favorite drawing supplies and immerse yourself in th
 e art of capturing the human form. For more information\, call 641-472-428
 7.
ATTACH;FMTTYPE=image/jpeg:https://news.miu.edu/wp-content/uploads/2024/05/
 images-5.jpeg
LOCATION:110 N Court St Fairfield\, 110 N Court St Fairfield\, Fairfield\, 
 IA \, 52557\, United Kingdom
X-APPLE-STRUCTURED-LOCATION;VALUE=URI;X-ADDRESS=110 N Court St Fairfield\, 
 Fairfield\, IA \, 52557\, United Kingdom;X-APPLE-RADIUS=100;X-TITLE=110 N 
 Court St Fairfield:geo:0,0
END:VEVENT
BEGIN:VTIMEZONE
TZID:America/Chicago
X-LIC-LOCATION:America/Chicago
BEGIN:DAYLIGHT
DTSTART:20240310T030000
TZOFFSETFROM:-0600
TZOFFSETTO:-0500
TZNAME:CDT
END:DAYLIGHT
END:VTIMEZONE
END:VCALENDAR