BEGIN:VCALENDAR
VERSION:2.0
PRODID:-//wp-events-plugin.com//7.2.3.1//EN
BEGIN:VEVENT
UID:153@news.miu.edu
DTSTART;TZID=America/Chicago:20240807T100000
DTEND;TZID=America/Chicago:20240807T120000
DTSTAMP:20240529T190128Z
URL:https://news.miu.edu/community-events/2828-2024-08-07/
SUMMARY:Christian Club
DESCRIPTION:\n\nWelcome to the Christian Club at MIU\, where we gather to w
 orship\, engage in faith-based discussions\, and uplift one another throug
 h prayer and fellowship. Our club is open to anyone\, regardless of their 
 religious background\, who is interested in exploring or deepening their f
 aith in a supportive community.\n\nJoin us every 2nd and 4th Wednesday at 
 4:30 pm in the Argiro Student Center\, basement (next to the mailroom)\, a
 s we come together to worship and grow in our faith. Whether you are a lif
 elong Christian or simply curious about Christianity\, you are welcome to 
 join us.\n\nOur club offers a safe space for meaningful conversations\, sp
 iritual growth\, and building lasting friendships. Connect with us at stud
 entlife@miu.edu to learn more about how you can be a part of our Christian
  Club community.\n\n&nbsp\;
ATTACH;FMTTYPE=image/jpeg:https://news.miu.edu/wp-content/uploads/2024/05/
 screen-shot-2021-02-27-at-2.47.10-pm-2.webp
LOCATION:Argiro Student Center\, Lobby\, 1000 N 4th Street\, Fairfield\, Un
 ited States
X-APPLE-STRUCTURED-LOCATION;VALUE=URI;X-ADDRESS=1000 N 4th Street\, Fairfie
 ld\, United States;X-APPLE-RADIUS=100;X-TITLE=Argiro Student Center\, Lobb
 y:geo:0,0
END:VEVENT
BEGIN:VTIMEZONE
TZID:America/Chicago
X-LIC-LOCATION:America/Chicago
BEGIN:DAYLIGHT
DTSTART:20240310T030000
TZOFFSETFROM:-0600
TZOFFSETTO:-0500
TZNAME:CDT
END:DAYLIGHT
END:VTIMEZONE
END:VCALENDAR